BEGIN:VCALENDAR
VERSION:2.0
PRODID:-//Urlaubs-Ärzte - ECPv6.15.20//NONSGML v1.0//EN
CALSCALE:GREGORIAN
METHOD:PUBLISH
X-ORIGINAL-URL:https://www.urlaubs-aerzte.de
X-WR-CALDESC:Veranstaltungen für Urlaubs-Ärzte
REFRESH-INTERVAL;VALUE=DURATION:PT1H
X-Robots-Tag:noindex
X-PUBLISHED-TTL:PT1H
BEGIN:VTIMEZONE
TZID:Europe/Helsinki
BEGIN:DAYLIGHT
TZOFFSETFROM:+0200
TZOFFSETTO:+0300
TZNAME:EEST
DTSTART:20240331T010000
END:DAYLIGHT
BEGIN:STANDARD
TZOFFSETFROM:+0300
TZOFFSETTO:+0200
TZNAME:EET
DTSTART:20241027T010000
END:STANDARD
BEGIN:DAYLIGHT
TZOFFSETFROM:+0200
TZOFFSETTO:+0300
TZNAME:EEST
DTSTART:20250330T010000
END:DAYLIGHT
BEGIN:STANDARD
TZOFFSETFROM:+0300
TZOFFSETTO:+0200
TZNAME:EET
DTSTART:20251026T010000
END:STANDARD
BEGIN:DAYLIGHT
TZOFFSETFROM:+0200
TZOFFSETTO:+0300
TZNAME:EEST
DTSTART:20260329T010000
END:DAYLIGHT
BEGIN:STANDARD
TZOFFSETFROM:+0300
TZOFFSETTO:+0200
TZNAME:EET
DTSTART:20261025T010000
END:STANDARD
END:VTIMEZONE
BEGIN:VEVENT
DTSTART;TZID=Europe/Helsinki:20250913T190000
DTEND;TZID=Europe/Helsinki:20250913T230000
DTSTAMP:20260421T182643
CREATED:20250618T124040Z
LAST-MODIFIED:20250630T134228Z
UID:1145-1757790000-1757804400@www.urlaubs-aerzte.de
SUMMARY:Einbecker MusicNight 2025
DESCRIPTION:🎸 Urlaubs-Ärz­te live bei der Ein­be­cker Music­Night am 13.09.2025! 🎶 \nAm Sams­tag\, den 13. Sep­tem­ber 2025\, ver­wan­delt sich die Innen­stadt von Ein­beck in eine gro­ße Büh­ne – denn die Ein­be­cker Music­Night ist zurück! Und mit­ten­drin: Die Urlaubs-Ärz­te\, die mit ihrem unver­wech­sel­ba­ren Ärz­te-Cover-Pro­gramm den Laden zum Kochen brin­gen. \n📍 Spiel­ort: Back­pa­ckers INN – die per­fek­te Loca­ti­on für ein Kon­zert mit Nähe\, Ener­gie und ordent­lich Druck auf den Boxen. \nFreue dich auf einen Abend vol­ler Die Ärz­te-Klas­si­ker\, Spon­ta­ni­tät\, Humor und jeder Men­ge Sin­ga­long-Momen­te. Egal ob „Jun­ge“\, „Wes­ter­land“ oder „Schrei nach Lie­be“ – die Urlaubs-Ärz­te lie­fern euch den Sound­track für eine unver­gess­li­che Nacht. \n🎟️ Die Music­Night bie­tet noch 14 wei­te­re Acts auf ver­schie­de­nen Büh­nen – ein Ticket\, eine Stadt\, eine gan­ze Nacht vol­ler Musik! \n🗓️ Wann? Sams­tag\, 13.09.2025🕘 Start: ab ca. 19:00 Uhr📌 Wo? Back­pa­ckers INN\, Ein­beck🎫 Infos & Tickets: auf den Sei­ten der Ein­be­cker Music­Night
URL:https://www.urlaubs-aerzte.de/konzerte/einbecker-musicnight-2025/
LOCATION:Backpackers INN Einbeck\, Tiedexer Str. 7\, Einbeck\, 37574\, Germany
END:VEVENT
END:VCALENDAR