BEGIN:VCALENDAR
VERSION:2.0
PRODID:-//Urlaubs-Ärzte - ECPv6.15.20//NONSGML v1.0//EN
CALSCALE:GREGORIAN
METHOD:PUBLISH
X-WR-CALNAME:Urlaubs-Ärzte
X-ORIGINAL-URL:https://www.urlaubs-aerzte.de
X-WR-CALDESC:Veranstaltungen für Urlaubs-Ärzte
REFRESH-INTERVAL;VALUE=DURATION:PT1H
X-Robots-Tag:noindex
X-PUBLISHED-TTL:PT1H
BEGIN:VTIMEZONE
TZID:Europe/Helsinki
BEGIN:DAYLIGHT
TZOFFSETFROM:+0200
TZOFFSETTO:+0300
TZNAME:EEST
DTSTART:20240331T010000
END:DAYLIGHT
BEGIN:STANDARD
TZOFFSETFROM:+0300
TZOFFSETTO:+0200
TZNAME:EET
DTSTART:20241027T010000
END:STANDARD
BEGIN:DAYLIGHT
TZOFFSETFROM:+0200
TZOFFSETTO:+0300
TZNAME:EEST
DTSTART:20250330T010000
END:DAYLIGHT
BEGIN:STANDARD
TZOFFSETFROM:+0300
TZOFFSETTO:+0200
TZNAME:EET
DTSTART:20251026T010000
END:STANDARD
BEGIN:DAYLIGHT
TZOFFSETFROM:+0200
TZOFFSETTO:+0300
TZNAME:EEST
DTSTART:20260329T010000
END:DAYLIGHT
BEGIN:STANDARD
TZOFFSETFROM:+0300
TZOFFSETTO:+0200
TZNAME:EET
DTSTART:20261025T010000
END:STANDARD
END:VTIMEZONE
BEGIN:VEVENT
DTSTART;TZID=Europe/Helsinki:20250809T170000
DTEND;TZID=Europe/Helsinki:20250809T235900
DTSTAMP:20260421T202525
CREATED:20250618T122433Z
LAST-MODIFIED:20250630T134308Z
UID:1141-1754758800-1754783940@www.urlaubs-aerzte.de
SUMMARY:Rock bei Rink 2025
DESCRIPTION:🎸 Urlaubs‑Ärzte beim „Rock bei Rink“-Festival am 09.08.2025! 🤘 \nAm Sams­tag\, den 9. August 2025\, wird’s wild und musi­ka­lisch auf dem Fes­ti­val­ge­län­de in Ede­wecht: das „Rock bei Rink“‑Line‑Up kann sich mehr als sehen las­sen – und Urlaubs‑Ärzte sind mit­ten­drin und tre­ten am Sams­tag­abend auf! \nDas erwar­tet dich am Sams­tag: \n\n\nTom­my Sca­th – kraft­vol­ler Alternative‑Rock mit ech­tem Cha­rak­ter \n\n\nUrlaubs‑Ärzte – dei­ne Lieblings‑Coverband rund um Die Ärz­te und Farin Urlaub \n\n\nHigh­field Lane – stim­mungs­vol­le Indie‑Atmosphäre zum Abtau­chen \n\n\nRol­ling Bones – mit­rei­ßen­der Rock ’n’ Roll von klas­sisch bis modern \n\n\nChris­ses– vokal­star­kes Singer‑Songwriter‑Projekt vol­ler Tie­fe \n\n\nDezi­bel Biest – kom­pro­miss­lo­ser Punk‑Sound\, der unter die Haut geht \n\n\nDank die­ser Mischung erwar­tet euch ein Festival‑Erlebnis mit Stil und Power – laut\, abwechs­lungs­reich und vol­ler Emo­ti­on. Die Urlaubs‑Ärzte brin­gen dir dabei den ulti­ma­ti­ven Die‑Ärzte‑Sound auf die Büh­ne – mit Hits\, Humor und jeder Men­ge Ener­gie! \n🗓️ Datum: Sams­tag\, 09.08.2025📍 Ort: Nord-Klang\, Ede­wecht🎟️ Tickets & Infos: auf der offi­zi­el­len Festival‑Webseite – Das Wochen­end-Ticket kos­tet 70 €\, Tages­ti­ckets wer­den nur kurz­fris­tig in gerin­ger Men­ge ver­füg­bar sein.
URL:https://www.urlaubs-aerzte.de/konzerte/rock-bei-rink-2025/
LOCATION:Rock bei Rink\, Nordstraße 6\, Edewecht\, Niedersachsen\, 26188
END:VEVENT
END:VCALENDAR