BEGIN:VCALENDAR
VERSION:2.0
PRODID:-//Urlaubs-Ärzte - ECPv6.15.20//NONSGML v1.0//EN
CALSCALE:GREGORIAN
METHOD:PUBLISH
X-WR-CALNAME:Urlaubs-Ärzte
X-ORIGINAL-URL:https://www.urlaubs-aerzte.de
X-WR-CALDESC:Veranstaltungen für Urlaubs-Ärzte
REFRESH-INTERVAL;VALUE=DURATION:PT1H
X-Robots-Tag:noindex
X-PUBLISHED-TTL:PT1H
BEGIN:VTIMEZONE
TZID:UTC
BEGIN:STANDARD
TZOFFSETFROM:+0000
TZOFFSETTO:+0000
TZNAME:UTC
DTSTART:20240101T000000
END:STANDARD
END:VTIMEZONE
BEGIN:VEVENT
DTSTART;TZID=UTC:20250628T200000
DTEND;TZID=UTC:20250628T223000
DTSTAMP:20260421T235924
CREATED:20250618T110859Z
LAST-MODIFIED:20250618T111657Z
UID:1134-1751140800-1751149800@www.urlaubs-aerzte.de
SUMMARY:Sommerfest Wachmannstrasse (Bremen)
DESCRIPTION:🎸 Urlaubs-Ärz­te live auf dem Som­mer­fest der Wach­mann­stras­se! 🎉 \nAm Sams­tag\, den 28. Juni 2025 ist es end­lich wie­der so weit: Die Wach­mann­stras­se in Bre­men ver­wan­delt sich in eine bun­te Fest­mei­le – und wir haben das musi­ka­li­sche High­light für euch! \nUrlaubs-Ärz­te – Bre­mens wahr­schein­lich char­man­tes­te Ärz­te-Cover­band – ste­hen auf der Büh­ne und brin­gen die Hits von Die Ärz­te mit jeder Men­ge Ener­gie\, Spaß und Som­mer-Vibes zurück auf die Stra­ße. Ob „Wes­ter­land“\, „Schrei nach Lie­be“ oder „Zu spät“ – Mit­sin­gen ist Pflicht! \nKommt vor­bei\, tanzt mit\, genießt das Som­mer­fest mit guter Musik\, lecke­rem Essen und tol­len Men­schen.Ein­tritt frei – gute Lau­ne garan­tiert! \n🗓️ Wann? 28.06.2025\, ab 20:00 Uhr📍 Wo? Ben­que­platz\, Bre­men \nWir sehen uns vor der Büh­ne – es wird laut\, es wird schön\, es wird Urlaub! 😎🎤🎶
URL:https://www.urlaubs-aerzte.de/konzerte/sommerfest-wachmannstrasse-bremen/
LOCATION:Die Wachmannstrasse e.V.\, Benqueplatz\, Bremen\, 28209
END:VEVENT
END:VCALENDAR